BEGIN:VCALENDAR
VERSION:2.0
PRODID:-//Batka - ECPv6.15.17.1//NONSGML v1.0//EN
CALSCALE:GREGORIAN
METHOD:PUBLISH
X-WR-CALNAME:Batka
X-ORIGINAL-URL:https://www.batka.fr
X-WR-CALDESC:Évènements pour Batka
REFRESH-INTERVAL;VALUE=DURATION:PT1H
X-Robots-Tag:noindex
X-PUBLISHED-TTL:PT1H
BEGIN:VTIMEZONE
TZID:Europe/Paris
BEGIN:DAYLIGHT
TZOFFSETFROM:+0100
TZOFFSETTO:+0200
TZNAME:CEST
DTSTART:20250330T010000
END:DAYLIGHT
BEGIN:STANDARD
TZOFFSETFROM:+0200
TZOFFSETTO:+0100
TZNAME:CET
DTSTART:20251026T010000
END:STANDARD
BEGIN:DAYLIGHT
TZOFFSETFROM:+0100
TZOFFSETTO:+0200
TZNAME:CEST
DTSTART:20260329T010000
END:DAYLIGHT
BEGIN:STANDARD
TZOFFSETFROM:+0200
TZOFFSETTO:+0100
TZNAME:CET
DTSTART:20261025T010000
END:STANDARD
BEGIN:DAYLIGHT
TZOFFSETFROM:+0100
TZOFFSETTO:+0200
TZNAME:CEST
DTSTART:20270328T010000
END:DAYLIGHT
BEGIN:STANDARD
TZOFFSETFROM:+0200
TZOFFSETTO:+0100
TZNAME:CET
DTSTART:20271031T010000
END:STANDARD
END:VTIMEZONE
BEGIN:VEVENT
DTSTART;TZID=Europe/Paris:20260424T080000
DTEND;TZID=Europe/Paris:20260424T100000
DTSTAMP:20260424T012542
CREATED:20260128T104107Z
LAST-MODIFIED:20260225T090748Z
UID:10903-1777017600-1777024800@www.batka.fr
SUMMARY:La Parenthèse by Batka : trouver son ikigaï
DESCRIPTION:Et si vous vous accordiez une parenthèse pour faire le point sur ce qui vous anime vraiment ?\nNous lançons « La Parenthèse by Batka » : un nouveau format de rendez-vous organisés plusieurs fois dans l’année pour prendre du recul sur son parcours professionnel\, ses choix\, ses envies et ses moteurs. En résumé : pour vous aider à libérer tout votre potentiel ! \nPour ce premier rendez-vous\, nous vous aiderons à identifier votre raison d’être\, votre « ikigaï » ! \nL’ikiagï\, qu’est-ce que c’est ?\nL’ikigaï\, c’est ce point de convergence entre ce qui vous motive profondément\, ce que vous savez bien faire\, ce qui a de la valeur sur le marché du travail et ce dont le monde a besoin. \nConcrètement\, cet atelier vous permettra de clarifier votre moteur professionnel\, vos zones de talents et vos leviers d’épanouissement\, dans un cadre confidentiel et bienveillant. \nRendez-vous le :  \nVendredi 24 avril 2026 \nde 8h à 10h \ndans nos locaux \n(72 rue Tronchet – 69006 Lyon) \nPetit déjeuner prévu \n  \nPas disponible pour cette première « Parenthèse by Batka » ? \n📅La prochaine date pour trouver votre ikigaï est déjà disponible : \n\nvendredi 3 juillet 2026\n\n  \nInscriptions via ce formulaire ! \n  \nUn événement porté par Keyman et QuinteSens. \n  \n 
URL:https://www.batka.fr/event/parenthese-ikigai-avril-2026/
LOCATION:Batka Lyon\, 72 rue Tronchet\, Lyon\, 69006\, France
CATEGORIES:Atelier
ATTACH;FMTTYPE=image/jpeg:https://www.batka.fr/wp-content/uploads/2026/01/Parenthese-by-Batka-trouver-son-ikigai-site-Batka.jpg
END:VEVENT
END:VCALENDAR