BEGIN:VCALENDAR
VERSION:2.0
PRODID:-//Batka - ECPv6.15.17.1//NONSGML v1.0//EN
CALSCALE:GREGORIAN
METHOD:PUBLISH
X-ORIGINAL-URL:https://www.batka.fr
X-WR-CALDESC:Évènements pour Batka
REFRESH-INTERVAL;VALUE=DURATION:PT1H
X-Robots-Tag:noindex
X-PUBLISHED-TTL:PT1H
BEGIN:VTIMEZONE
TZID:Europe/Paris
BEGIN:DAYLIGHT
TZOFFSETFROM:+0100
TZOFFSETTO:+0200
TZNAME:CEST
DTSTART:20240331T010000
END:DAYLIGHT
BEGIN:STANDARD
TZOFFSETFROM:+0200
TZOFFSETTO:+0100
TZNAME:CET
DTSTART:20241027T010000
END:STANDARD
BEGIN:DAYLIGHT
TZOFFSETFROM:+0100
TZOFFSETTO:+0200
TZNAME:CEST
DTSTART:20250330T010000
END:DAYLIGHT
BEGIN:STANDARD
TZOFFSETFROM:+0200
TZOFFSETTO:+0100
TZNAME:CET
DTSTART:20251026T010000
END:STANDARD
BEGIN:DAYLIGHT
TZOFFSETFROM:+0100
TZOFFSETTO:+0200
TZNAME:CEST
DTSTART:20260329T010000
END:DAYLIGHT
BEGIN:STANDARD
TZOFFSETFROM:+0200
TZOFFSETTO:+0100
TZNAME:CET
DTSTART:20261025T010000
END:STANDARD
END:VTIMEZONE
BEGIN:VEVENT
DTSTART;TZID=Europe/Paris:20250925T110000
DTEND;TZID=Europe/Paris:20250925T120000
DTSTAMP:20260421T101954
CREATED:20250825T152751Z
LAST-MODIFIED:20260324T132657Z
UID:9907-1758798000-1758801600@www.batka.fr
SUMMARY:[Webinar] RH et Finance : ne décidez plus à l’aveugle !
DESCRIPTION:Quand on dirige une PME\, chaque décision compte.\n\n\n\n\nRecruter ou attendre ? Réorganiser ou consolider ? Investir ou sécuriser la rentabilité ? \nCes choix façonnent directement l’avenir de l’entreprise. Pourtant\, dans de nombreuses entreprises\, les décisions stratégiques reposent sur une seule lecture :\n– Les chiffres financiers\, qui disent si ça passe ou ça casse… mais pas si vos équipes peuvent suivre.\n– Les indicateurs RH\, qui éclairent la capacité humaine… sans toujours intégrer les contraintes économiques. \nCe décalage crée des angles morts\, une zone de flou qui peut faire basculer tout un projet… voire l’organisation ! \n\n\n  \nParticipez au prochain webinar co-animé par Kohérence et DAFonline : \n  \n\n\nRH et Finance : ne décidez plus à l’aveugle\n\n\n\n\nAiguisez votre regard sur vos données humaines et financières pour transformer vos intuitions en décisions stratégiques ! \n  \n\n\nJeudi 25 septembre 2025 à 11h ! \n\n\n  \n\n\n\n\nCe webinar vous permettra :\n\n\n\n\n\nArticuler les données humaines et financière pour une lecture croisée\, pour prendre des décisions stratégiques éclairées.\nProjeter cette double expertise dans votre organisation grâce à des cas pratiques et des solutions concrètes que vous pourrez mettre en place dans votre entreprise… même sans service RH ou financier interne.\n\nCe webinar sera animé par : \n\nNathalie Grospiron\, directrice financière externe chez DAFonline (pilotage financier de PME)\nGéraldine Boulhol\, dirigeante du cabinet Kohérence (RH à temps partagé et conseil RH)
URL:https://www.batka.fr/event/webinar-daf-drh-koherence/
CATEGORIES:Webinar
ATTACH;FMTTYPE=image/jpeg:https://www.batka.fr/wp-content/uploads/2025/08/Webinar-Koherence-DAF-et-DRH-pilotage.jpg
END:VEVENT
END:VCALENDAR